BEGIN:VCALENDAR
VERSION:2.0
PRODID:-//eventon.com NONSGML v1.0//EN
BEGIN:VEVENT
UID:69eadcb0ecae6
DTSTAMP:20260424T040000
DTSTART:20230303T190000Z
DTEND:20230303T210000Z
TZID:Pacific/Midway
LOCATION:Jugendraum Dr.-Georg-von-Opel-Anlage 1
SUMMARY:Jahreshauptversammlung FRV
DESCRIPTION: Jahreshauptversammlung FRV\nhttps://floersheimerruderverein.de/events/jahreshauptversammlung-frv-2/
URL:https://floersheimerruderverein.de/events/jahreshauptversammlung-frv-2/
END:VEVENT
END:VCALENDAR