BEGIN:VCALENDAR
VERSION:2.0
PRODID:-//eventon.com NONSGML v1.0//EN
BEGIN:VEVENT
UID:69ec0f9d6a340
DTSTAMP:20260425T014933
DTSTART:20230325T083000Z
DTEND:20230325T140000Z
TZID:Pacific/Midway
LOCATION:Bootshaus Dr.-Georg-von-Opel-Anlage 1
SUMMARY:Putztag
DESCRIPTION: Putztag\nhttps://floersheimerruderverein.de/events/putztag-2/
URL:https://floersheimerruderverein.de/events/putztag-2/
END:VEVENT
END:VCALENDAR