BEGIN:VCALENDAR
VERSION:2.0
PRODID:-//eventon.com NONSGML v1.0//EN
BEGIN:VEVENT
UID:69e5fc3985862
DTSTAMP:20260420T111313
DTSTART:20220627
DTEND:20220627
TZID:Pacific/Midway
LOCATION:
SUMMARY:Rudergäste auf dem Bootssteg Tag 2
DESCRIPTION: Rudergäste auf dem Bootssteg Tag 2\nhttps://floersheimerruderverein.de/events/rudergaeste-auf-dem-bootssteg-tag-2/
URL:https://floersheimerruderverein.de/events/rudergaeste-auf-dem-bootssteg-tag-2/
END:VEVENT
END:VCALENDAR