BEGIN:VCALENDAR
VERSION:2.0
PRODID:-//eventon.com NONSGML v1.0//EN
BEGIN:VEVENT
UID:69e733a7bde12
DTSTAMP:20260421T092159
DTSTART:20220701
DTEND:20220703
TZID:UTC
LOCATION:
SUMMARY:Deutsche Master Open in Münster
DESCRIPTION: Deutsche Master Open in Münster\nhttps://floersheimerruderverein.de/events/deutsche-master-open-in-muenster/
URL:https://floersheimerruderverein.de/events/deutsche-master-open-in-muenster/
END:VEVENT
END:VCALENDAR